BEGIN:VCALENDAR
VERSION:2.0
PRODID:-//hacksw/handcal//NONSGML v1.0//EN
CALSCALE:GREGORIAN
BEGIN:VEVENT
ORGANIZER;CN=Yum China Holdings, Inc.:MAILTO:no-reply@mail.gcs-web.com
DTEND:
UID:851da433-2e31-4a6f-8e85-44bbf1de4208
DTSTAMP:1635000800
LOCATION:https://edge.media-server.com/mmc/p/5tbn4t8f
DESCRIPTION:活動詳情 http://ir.yumchina.com/zh-hant/events/event-details/2021niandisanjidubaishengzhongguokongguyouxiangongsiyejidianhuahuiyi\n\nWebcast: https://edge.media-server.com/mmc/p/5tbn4t8f
URL;VALUE=URI:https://edge.media-server.com/mmc/p/5tbn4t8f
SUMMARY:Yum China Holdings, Inc. - 2021年第三季度百勝中國控股有限公司業績電話會議
DTSTART:20211028T000000Z
END:VEVENT
END:VCALENDAR